![]() | Name | Last modified | Size | Description |
---|---|---|---|---|
![]() | Parent Directory | - | ||
![]() | buildsrc-out.txt | 16-Oct-2021 04:06 | 905 | |
![]() | buildsrc-summary.dcf | 16-Oct-2021 04:06 | 458 | |
![]() | install-out.txt | 16-Oct-2021 04:06 | 3.4K | |
![]() | install-summary.dcf | 16-Oct-2021 04:06 | 640 | |
![]() | checksrc-out.txt | 16-Oct-2021 04:06 | 7.8K | |
![]() | checksrc-summary.dcf | 16-Oct-2021 04:06 | 468 | |
![]() | buildbin-out.txt | 16-Oct-2021 04:06 | 2.7K | |
![]() | buildbin-summary.dcf | 16-Oct-2021 04:06 | 539 | |