![]() | Name | Last modified | Size | Description |
---|---|---|---|---|
![]() | Parent Directory | - | ||
![]() | install-summary.dcf | 16-Oct-2021 04:05 | 259 | |
![]() | install-out.txt | 16-Oct-2021 04:05 | 1.0K | |
![]() | checksrc-summary.dcf | 16-Oct-2021 04:05 | 429 | |
![]() | checksrc-out.txt | 16-Oct-2021 04:05 | 7.3K | |
![]() | buildsrc-summary.dcf | 16-Oct-2021 04:05 | 417 | |
![]() | buildsrc-out.txt | 16-Oct-2021 04:05 | 869 | |