Name | Last modified | Size | Description | |
---|---|---|---|---|
Parent Directory | - | |||
buildbin-out.txt | 16-Oct-2021 04:06 | 1.3K | ||
buildbin-summary.dcf | 16-Oct-2021 04:06 | 547 | ||
buildsrc-out.txt | 16-Oct-2021 04:06 | 896 | ||
buildsrc-summary.dcf | 16-Oct-2021 04:06 | 444 | ||
checksrc-out.txt | 16-Oct-2021 04:06 | 7.8K | ||
checksrc-summary.dcf | 16-Oct-2021 04:06 | 484 | ||
install-out.txt | 16-Oct-2021 04:06 | 1.1K | ||
install-summary.dcf | 16-Oct-2021 04:06 | 286 | ||