Index of /checkResults/3.13/bioc-LATEST/KCsmart/raw-results
Name
Last modified
Size
Description
Parent Directory
-
machv2/
16-Oct-2021 04:06
-
info.dcf
16-Oct-2021 04:06
269
tokay2/
16-Oct-2021 04:06
-
nebbiolo1/
16-Oct-2021 04:05
-