Index of /checkResults/3.13/bioc-LATEST/HCABrowser/raw-results/tokay2
Name
Last modified
Size
Description
Parent Directory
-
install-summary.dcf
16-Oct-2021 04:06
661
install-out.txt
16-Oct-2021 04:06
2.7K
buildsrc-summary.dcf
16-Oct-2021 04:06
382
buildsrc-out.txt
16-Oct-2021 04:06
1.5K