Index of /checkResults/3.13/bioc-LATEST/HCABrowser/raw-results/machv2
Name
Last modified
Size
Description
Parent Directory
-
install-summary.dcf
16-Oct-2021 04:06
291
install-out.txt
16-Oct-2021 04:06
1.3K
buildsrc-summary.dcf
16-Oct-2021 04:06
365
buildsrc-out.txt
16-Oct-2021 04:06
1.5K