Name | Last modified | Size | Description | |
---|---|---|---|---|
Parent Directory | - | |||
buildbin-out.txt | 16-Oct-2021 04:06 | 1.2K | ||
buildbin-summary.dcf | 16-Oct-2021 04:06 | 577 | ||
buildsrc-out.txt | 16-Oct-2021 04:06 | 916 | ||
buildsrc-summary.dcf | 16-Oct-2021 04:06 | 459 | ||
checksrc-out.txt | 16-Oct-2021 04:06 | 3.6K | ||
checksrc-summary.dcf | 16-Oct-2021 04:06 | 498 | ||
install-out.txt | 16-Oct-2021 04:06 | 1.0K | ||
install-summary.dcf | 16-Oct-2021 04:06 | 296 | ||