Name | Last modified | Size | Description | |
---|---|---|---|---|
Parent Directory | - | |||
checksrc-summary.dcf | 16-Oct-2021 04:05 | 463 | ||
checksrc-out.txt | 16-Oct-2021 04:05 | 4.8K | ||
buildsrc-summary.dcf | 16-Oct-2021 04:05 | 441 | ||
buildsrc-out.txt | 16-Oct-2021 04:05 | 838 | ||
install-summary.dcf | 16-Oct-2021 04:05 | 275 | ||
install-out.txt | 16-Oct-2021 04:05 | 971 | ||