Index of /checkResults/3.13/bioc-LATEST/GenoGAM/raw-results/machv2
Name
Last modified
Size
Description
Parent Directory
-
buildsrc-out.txt
16-Oct-2021 04:06
52K
buildsrc-summary.dcf
16-Oct-2021 04:06
361
install-out.txt
16-Oct-2021 04:06
3.1K
install-summary.dcf
16-Oct-2021 04:06
287