Index of /checkResults/3.13/bioc-LATEST/GeneExpressionSignature/raw-results/machv2
Name
Last modified
Size
Description
Parent Directory
-
buildsrc-out.txt
16-Oct-2021 04:06
7.1K
buildsrc-summary.dcf
16-Oct-2021 04:06
391
install-out.txt
16-Oct-2021 04:06
1.0K
install-summary.dcf
16-Oct-2021 04:06
318