Index of /checkResults/3.13/bioc-LATEST/GWAS.BAYES/raw-results/nebbiolo1
Name
Last modified
Size
Description
Parent Directory
-
install-summary.dcf
16-Oct-2021 04:05
264
install-out.txt
16-Oct-2021 04:05
168K
buildsrc-summary.dcf
16-Oct-2021 04:05
339
buildsrc-out.txt
16-Oct-2021 04:05
2.1K