Index of /checkResults/3.13/bioc-LATEST/GWAS.BAYES/raw-results/machv2
Name
Last modified
Size
Description
Parent Directory
-
buildsrc-out.txt
16-Oct-2021 04:06
2.2K
buildsrc-summary.dcf
16-Oct-2021 04:06
366
install-out.txt
16-Oct-2021 04:06
31K
install-summary.dcf
16-Oct-2021 04:06
291