![]() | Name | Last modified | Size | Description |
---|---|---|---|---|
![]() | Parent Directory | - | ||
![]() | buildsrc-out.txt | 16-Oct-2021 04:05 | 818 | |
![]() | buildsrc-summary.dcf | 16-Oct-2021 04:05 | 426 | |
![]() | checksrc-out.txt | 16-Oct-2021 04:05 | 4.1K | |
![]() | checksrc-summary.dcf | 16-Oct-2021 04:05 | 441 | |
![]() | install-out.txt | 16-Oct-2021 04:05 | 1.3K | |
![]() | install-summary.dcf | 16-Oct-2021 04:05 | 264 | |