Index of /checkResults/3.13/bioc-LATEST/EasyqpcR/raw-results/machv2
Name
Last modified
Size
Description
Parent Directory
-
buildsrc-out.txt
16-Oct-2021 04:06
917
buildsrc-summary.dcf
16-Oct-2021 04:06
362
install-out.txt
16-Oct-2021 04:06
707
install-summary.dcf
16-Oct-2021 04:06
290