Index of /checkResults/3.13/bioc-LATEST/EDDA/raw-results/nebbiolo1
Name
Last modified
Size
Description
Parent Directory
-
install-summary.dcf
16-Oct-2021 04:05
255
buildsrc-summary.dcf
16-Oct-2021 04:05
326
install-out.txt
16-Oct-2021 04:05
614
buildsrc-out.txt
16-Oct-2021 04:05
872