Index of /checkResults/3.13/bioc-LATEST/EDDA/raw-results/machv2
Name
Last modified
Size
Description
Parent Directory
-
buildsrc-out.txt
16-Oct-2021 04:06
905
buildsrc-summary.dcf
16-Oct-2021 04:06
354
install-out.txt
16-Oct-2021 04:06
687
install-summary.dcf
16-Oct-2021 04:06
282