Index of /checkResults/3.13/bioc-LATEST/EBSEA/raw-results
Name
Last modified
Size
Description
Parent Directory
-
info.dcf
16-Oct-2021 04:06
266
machv2/
16-Oct-2021 04:06
-
nebbiolo1/
16-Oct-2021 04:05
-
tokay2/
16-Oct-2021 04:06
-