Name | Last modified | Size | Description | |
---|---|---|---|---|
Parent Directory | - | |||
install-summary.dcf | 16-Oct-2021 04:05 | 271 | ||
buildsrc-out.txt | 16-Oct-2021 04:05 | 830 | ||
buildsrc-summary.dcf | 16-Oct-2021 04:05 | 435 | ||
install-out.txt | 16-Oct-2021 04:05 | 1.0K | ||
checksrc-out.txt | 16-Oct-2021 04:05 | 7.5K | ||
checksrc-summary.dcf | 16-Oct-2021 04:05 | 448 | ||