Name | Last modified | Size | Description | |
---|---|---|---|---|
Parent Directory | - | |||
buildbin-out.txt | 16-Oct-2021 04:06 | 642K | ||
buildbin-summary.dcf | 16-Oct-2021 04:06 | 542 | ||
buildsrc-out.txt | 16-Oct-2021 04:06 | 941 | ||
buildsrc-summary.dcf | 16-Oct-2021 04:06 | 460 | ||
checksrc-out.txt | 16-Oct-2021 04:06 | 7.2K | ||
checksrc-summary.dcf | 16-Oct-2021 04:06 | 468 | ||
install-out.txt | 16-Oct-2021 04:06 | 643K | ||
install-summary.dcf | 16-Oct-2021 04:06 | 644 | ||