![]() | Name | Last modified | Size | Description |
---|---|---|---|---|
![]() | Parent Directory | - | ||
![]() | buildbin-out.txt | 16-Oct-2021 04:06 | 13K | |
![]() | buildbin-summary.dcf | 16-Oct-2021 04:06 | 602 | |
![]() | buildsrc-out.txt | 16-Oct-2021 04:06 | 931 | |
![]() | buildsrc-summary.dcf | 16-Oct-2021 04:06 | 500 | |
![]() | checksrc-out.txt | 16-Oct-2021 04:06 | 4.8K | |
![]() | checksrc-summary.dcf | 16-Oct-2021 04:06 | 504 | |
![]() | install-out.txt | 16-Oct-2021 04:06 | 13K | |
![]() | install-summary.dcf | 16-Oct-2021 04:06 | 733 | |