![]() | Name | Last modified | Size | Description |
---|---|---|---|---|
![]() | Parent Directory | - | ||
![]() | buildsrc-out.txt | 16-Oct-2021 04:05 | 879 | |
![]() | buildsrc-summary.dcf | 16-Oct-2021 04:05 | 448 | |
![]() | checksrc-out.txt | 16-Oct-2021 04:05 | 3.2K | |
![]() | checksrc-summary.dcf | 16-Oct-2021 04:05 | 465 | |
![]() | install-out.txt | 16-Oct-2021 04:05 | 5.9K | |
![]() | install-summary.dcf | 16-Oct-2021 04:05 | 280 | |