![]() | Name | Last modified | Size | Description |
---|---|---|---|---|
![]() | Parent Directory | - | ||
![]() | buildbin-out.txt | 16-Oct-2021 04:06 | 4.4K | |
![]() | buildbin-summary.dcf | 16-Oct-2021 04:06 | 610 | |
![]() | buildsrc-out.txt | 16-Oct-2021 04:06 | 906 | |
![]() | buildsrc-summary.dcf | 16-Oct-2021 04:06 | 475 | |
![]() | checksrc-out.txt | 16-Oct-2021 04:06 | 3.3K | |
![]() | checksrc-summary.dcf | 16-Oct-2021 04:06 | 520 | |
![]() | install-out.txt | 16-Oct-2021 04:06 | 3.3K | |
![]() | install-summary.dcf | 16-Oct-2021 04:06 | 307 | |