![]() | Name | Last modified | Size | Description |
---|---|---|---|---|
![]() | Parent Directory | - | ||
![]() | buildsrc-out.txt | 16-Oct-2021 04:05 | 831 | |
![]() | buildsrc-summary.dcf | 16-Oct-2021 04:05 | 412 | |
![]() | checksrc-out.txt | 16-Oct-2021 04:05 | 4.4K | |
![]() | checksrc-summary.dcf | 16-Oct-2021 04:05 | 418 | |
![]() | install-out.txt | 16-Oct-2021 04:05 | 5.6K | |
![]() | install-summary.dcf | 16-Oct-2021 04:05 | 256 | |