Name | Last modified | Size | Description | |
---|---|---|---|---|
Parent Directory | - | |||
checksrc-out.txt | 16-Oct-2021 04:06 | 4.4K | ||
install-out.txt | 16-Oct-2021 04:06 | 3.1K | ||
buildbin-out.txt | 16-Oct-2021 04:06 | 2.5K | ||
buildsrc-out.txt | 16-Oct-2021 04:06 | 882 | ||
install-summary.dcf | 16-Oct-2021 04:06 | 640 | ||
buildbin-summary.dcf | 16-Oct-2021 04:06 | 537 | ||
checksrc-summary.dcf | 16-Oct-2021 04:06 | 468 | ||
buildsrc-summary.dcf | 16-Oct-2021 04:06 | 459 | ||