Name | Last modified | Size | Description | |
---|---|---|---|---|
Parent Directory | - | |||
install-summary.dcf | 16-Oct-2021 04:06 | 677 | ||
install-out.txt | 16-Oct-2021 04:06 | 349K | ||
checksrc-summary.dcf | 16-Oct-2021 04:06 | 477 | ||
checksrc-out.txt | 16-Oct-2021 04:06 | 5.5K | ||
buildsrc-summary.dcf | 16-Oct-2021 04:06 | 475 | ||
buildsrc-out.txt | 16-Oct-2021 04:06 | 957 | ||
buildbin-summary.dcf | 16-Oct-2021 04:06 | 564 | ||
buildbin-out.txt | 16-Oct-2021 04:06 | 349K | ||