Name | Last modified | Size | Description | |
---|---|---|---|---|
Parent Directory | - | |||
buildsrc-summary.dcf | 16-Oct-2021 04:06 | 474 | ||
checksrc-summary.dcf | 16-Oct-2021 04:06 | 478 | ||
buildbin-summary.dcf | 16-Oct-2021 04:06 | 563 | ||
install-summary.dcf | 16-Oct-2021 04:06 | 676 | ||
buildsrc-out.txt | 16-Oct-2021 04:06 | 925 | ||
buildbin-out.txt | 16-Oct-2021 04:06 | 2.1K | ||
install-out.txt | 16-Oct-2021 04:06 | 2.8K | ||
checksrc-out.txt | 16-Oct-2021 04:06 | 5.6K | ||