Name | Last modified | Size | Description | |
---|---|---|---|---|
Parent Directory | - | |||
checksrc-out.txt | 16-Oct-2021 04:06 | 4.7K | ||
install-out.txt | 16-Oct-2021 04:06 | 3.4K | ||
buildbin-out.txt | 16-Oct-2021 04:06 | 2.7K | ||
buildsrc-out.txt | 16-Oct-2021 04:06 | 877 | ||
install-summary.dcf | 16-Oct-2021 04:06 | 631 | ||
buildbin-summary.dcf | 16-Oct-2021 04:06 | 531 | ||
checksrc-summary.dcf | 16-Oct-2021 04:06 | 464 | ||
buildsrc-summary.dcf | 16-Oct-2021 04:06 | 455 | ||