Index of /checkResults/3.13/bioc-LATEST/CrossICC/raw-results/nebbiolo1
Name
Last modified
Size
Description
Parent Directory
-
buildsrc-out.txt
16-Oct-2021 04:05
881
install-out.txt
16-Oct-2021 04:05
630
buildsrc-summary.dcf
16-Oct-2021 04:05
333
install-summary.dcf
16-Oct-2021 04:05
262