Name | Last modified | Size | Description | |
---|---|---|---|---|
Parent Directory | - | |||
buildbin-out.txt | 16-Oct-2021 04:06 | 9.6K | ||
buildbin-summary.dcf | 16-Oct-2021 04:06 | 558 | ||
buildsrc-out.txt | 16-Oct-2021 04:06 | 952 | ||
buildsrc-summary.dcf | 16-Oct-2021 04:06 | 471 | ||
checksrc-out.txt | 16-Oct-2021 04:06 | 8.8K | ||
checksrc-summary.dcf | 16-Oct-2021 04:06 | 475 | ||
install-out.txt | 16-Oct-2021 04:06 | 10K | ||
install-summary.dcf | 16-Oct-2021 04:06 | 668 | ||