![]() | Name | Last modified | Size | Description |
---|---|---|---|---|
![]() | Parent Directory | - | ||
![]() | install-summary.dcf | 16-Oct-2021 04:05 | 265 | |
![]() | install-out.txt | 16-Oct-2021 04:05 | 964 | |
![]() | checksrc-summary.dcf | 16-Oct-2021 04:05 | 436 | |
![]() | checksrc-out.txt | 16-Oct-2021 04:05 | 3.7K | |
![]() | buildsrc-summary.dcf | 16-Oct-2021 04:05 | 426 | |
![]() | buildsrc-out.txt | 16-Oct-2021 04:05 | 881 | |