Index of /checkResults/3.13/bioc-LATEST/ChIPSeqSpike/raw-results/machv2
Name
Last modified
Size
Description
Parent Directory
-
buildsrc-out.txt
16-Oct-2021 04:06
2.3K
buildsrc-summary.dcf
16-Oct-2021 04:06
370
install-out.txt
16-Oct-2021 04:06
1.2K
install-summary.dcf
16-Oct-2021 04:06
296