Name | Last modified | Size | Description | |
---|---|---|---|---|
Parent Directory | - | |||
install-out.txt | 16-Oct-2021 04:06 | 8.2K | ||
buildbin-out.txt | 16-Oct-2021 04:06 | 7.4K | ||
checksrc-out.txt | 16-Oct-2021 04:06 | 6.6K | ||
buildsrc-out.txt | 16-Oct-2021 04:06 | 872 | ||
install-summary.dcf | 16-Oct-2021 04:06 | 623 | ||
buildbin-summary.dcf | 16-Oct-2021 04:06 | 527 | ||
checksrc-summary.dcf | 16-Oct-2021 04:06 | 460 | ||
buildsrc-summary.dcf | 16-Oct-2021 04:06 | 451 | ||