Name | Last modified | Size | Description | |
---|---|---|---|---|
Parent Directory | - | |||
checksrc-out.txt | 16-Oct-2021 04:06 | 6.4K | ||
buildbin-out.txt | 16-Oct-2021 04:06 | 4.9K | ||
install-out.txt | 16-Oct-2021 04:06 | 4.7K | ||
buildsrc-out.txt | 16-Oct-2021 04:06 | 865 | ||
buildbin-summary.dcf | 16-Oct-2021 04:06 | 535 | ||
checksrc-summary.dcf | 16-Oct-2021 04:06 | 476 | ||
buildsrc-summary.dcf | 16-Oct-2021 04:06 | 439 | ||
install-summary.dcf | 16-Oct-2021 04:06 | 282 | ||