Name | Last modified | Size | Description | |
---|---|---|---|---|
Parent Directory | - | |||
install-summary.dcf | 16-Oct-2021 04:05 | 653 | ||
install-out.txt | 16-Oct-2021 04:05 | 4.1K | ||
checksrc-summary.dcf | 16-Oct-2021 04:05 | 468 | ||
checksrc-out.txt | 16-Oct-2021 04:05 | 4.3K | ||
buildsrc-summary.dcf | 16-Oct-2021 04:05 | 465 | ||
buildsrc-out.txt | 16-Oct-2021 04:05 | 854 | ||
buildbin-summary.dcf | 16-Oct-2021 04:05 | 548 | ||
buildbin-out.txt | 16-Oct-2021 04:05 | 3.1K | ||