![]() | Name | Last modified | Size | Description |
---|---|---|---|---|
![]() | Parent Directory | - | ||
![]() | install-out.txt | 16-Oct-2021 04:06 | 5.7K | |
![]() | install-summary.dcf | 16-Oct-2021 04:06 | 608 | |
![]() | buildsrc-out.txt | 16-Oct-2021 04:06 | 861 | |
![]() | buildsrc-summary.dcf | 16-Oct-2021 04:06 | 445 | |
![]() | checksrc-out.txt | 16-Oct-2021 04:06 | 5.0K | |
![]() | checksrc-summary.dcf | 16-Oct-2021 04:06 | 448 | |
![]() | buildbin-out.txt | 16-Oct-2021 04:06 | 5.0K | |
![]() | buildbin-summary.dcf | 16-Oct-2021 04:06 | 518 | |