Name | Last modified | Size | Description | |
---|---|---|---|---|
Parent Directory | - | |||
buildbin-out.txt | 16-Oct-2021 04:05 | 3.5K | ||
buildbin-summary.dcf | 16-Oct-2021 04:05 | 545 | ||
buildsrc-out.txt | 16-Oct-2021 04:05 | 850 | ||
buildsrc-summary.dcf | 16-Oct-2021 04:05 | 461 | ||
checksrc-out.txt | 16-Oct-2021 04:05 | 3.7K | ||
checksrc-summary.dcf | 16-Oct-2021 04:05 | 466 | ||
install-out.txt | 16-Oct-2021 04:05 | 4.2K | ||
install-summary.dcf | 16-Oct-2021 04:05 | 649 | ||