Index of /checkResults/3.13/bioc-LATEST/CancerMutationAnalysis/raw-results/nebbiolo1
Name
Last modified
Size
Description
Parent Directory
-
buildsrc-out.txt
16-Oct-2021 04:05
1.3K
buildsrc-summary.dcf
16-Oct-2021 04:05
363
install-out.txt
16-Oct-2021 04:05
1.7K
install-summary.dcf
16-Oct-2021 04:05
289