Name | Last modified | Size | Description | |
---|---|---|---|---|
Parent Directory | - | |||
install-out.txt | 16-Oct-2021 04:06 | 2.2K | ||
install-summary.dcf | 16-Oct-2021 04:06 | 290 | ||
buildsrc-out.txt | 16-Oct-2021 04:06 | 871 | ||
buildsrc-summary.dcf | 16-Oct-2021 04:06 | 450 | ||
checksrc-out.txt | 16-Oct-2021 04:06 | 6.8K | ||
checksrc-summary.dcf | 16-Oct-2021 04:06 | 486 | ||
buildbin-out.txt | 16-Oct-2021 04:06 | 3.1K | ||
buildbin-summary.dcf | 16-Oct-2021 04:06 | 559 | ||