Index of /checkResults/3.13/bioc-LATEST/CIMICE/raw-results
Name
Last modified
Size
Description
Parent Directory
-