![]() | Name | Last modified | Size | Description |
---|---|---|---|---|
![]() | Parent Directory | - | ||
![]() | install-summary.dcf | 16-Oct-2021 04:05 | 667 | |
![]() | install-out.txt | 16-Oct-2021 04:05 | 3.1K | |
![]() | checksrc-summary.dcf | 16-Oct-2021 04:05 | 473 | |
![]() | checksrc-out.txt | 16-Oct-2021 04:05 | 3.7K | |
![]() | buildsrc-summary.dcf | 16-Oct-2021 04:05 | 470 | |
![]() | buildsrc-out.txt | 16-Oct-2021 04:05 | 907 | |
![]() | buildbin-summary.dcf | 16-Oct-2021 04:05 | 557 | |
![]() | buildbin-out.txt | 16-Oct-2021 04:05 | 2.4K | |