![]() | Name | Last modified | Size | Description |
---|---|---|---|---|
![]() | Parent Directory | - | ||
![]() | buildsrc-out.txt | 16-Oct-2021 04:05 | 868 | |
![]() | buildsrc-summary.dcf | 16-Oct-2021 04:05 | 425 | |
![]() | checksrc-out.txt | 16-Oct-2021 04:05 | 3.1K | |
![]() | checksrc-summary.dcf | 16-Oct-2021 04:05 | 435 | |
![]() | install-out.txt | 16-Oct-2021 04:05 | 956 | |
![]() | install-summary.dcf | 16-Oct-2021 04:05 | 265 | |