Index of /checkResults/3.13/bioc-LATEST/BrainSABER/raw-results/tokay2
Name
Last modified
Size
Description
Parent Directory
-
buildsrc-out.txt
16-Oct-2021 04:05
4.3K
buildsrc-summary.dcf
16-Oct-2021 04:05
383
install-out.txt
16-Oct-2021 04:05
2.5K
install-summary.dcf
16-Oct-2021 04:05
661