![]() | Name | Last modified | Size | Description |
---|---|---|---|---|
![]() | Parent Directory | - | ||
![]() | checksrc-out.txt | 16-Oct-2021 04:05 | 5.3K | |
![]() | checksrc-summary.dcf | 16-Oct-2021 04:05 | 425 | |
![]() | buildsrc-summary.dcf | 16-Oct-2021 04:05 | 414 | |
![]() | buildsrc-out.txt | 16-Oct-2021 04:05 | 880 | |
![]() | install-summary.dcf | 16-Oct-2021 04:05 | 257 | |
![]() | install-out.txt | 16-Oct-2021 04:05 | 17K | |