Index of /checkResults/3.13/bioc-LATEST/BiocSklearn/raw-results/tokay2

[ICO]NameLast modifiedSizeDescription

[DIR]Parent Directory  -  
[   ]buildbin-summary.dcf16-Oct-2021 04:05 571  
[TXT]buildbin-out.txt16-Oct-2021 04:05 1.9K 
[   ]checksrc-summary.dcf16-Oct-2021 04:05 486  
[TXT]checksrc-out.txt16-Oct-2021 04:05 3.7K 
[   ]buildsrc-summary.dcf16-Oct-2021 04:05 486  
[TXT]buildsrc-out.txt16-Oct-2021 04:05 959  
[   ]install-summary.dcf16-Oct-2021 04:05 308  
[TXT]install-out.txt16-Oct-2021 04:05 1.8K