Index of /checkResults/3.13/bioc-LATEST/BiocIO/raw-results/nebbiolo1

[ICO]NameLast modifiedSizeDescription

[DIR]Parent Directory  -  
[   ]checksrc-summary.dcf16-Oct-2021 04:05 417  
[TXT]checksrc-out.txt16-Oct-2021 04:05 3.0K 
[   ]install-summary.dcf16-Oct-2021 04:05 255  
[TXT]install-out.txt16-Oct-2021 04:05 936  
[   ]buildsrc-summary.dcf16-Oct-2021 04:05 411  
[TXT]buildsrc-out.txt16-Oct-2021 04:05 841