![]() | Name | Last modified | Size | Description |
---|---|---|---|---|
![]() | Parent Directory | - | ||
![]() | install-out.txt | 16-Oct-2021 04:05 | 4.8K | |
![]() | install-summary.dcf | 16-Oct-2021 04:05 | 634 | |
![]() | buildsrc-out.txt | 16-Oct-2021 04:05 | 904 | |
![]() | buildsrc-summary.dcf | 16-Oct-2021 04:05 | 457 | |
![]() | checksrc-out.txt | 16-Oct-2021 04:05 | 4.0K | |
![]() | checksrc-summary.dcf | 16-Oct-2021 04:05 | 460 | |
![]() | buildbin-out.txt | 16-Oct-2021 04:05 | 4.1K | |
![]() | buildbin-summary.dcf | 16-Oct-2021 04:05 | 536 | |