Name | Last modified | Size | Description | |
---|---|---|---|---|
Parent Directory | - | |||
install-summary.dcf | 16-Oct-2021 04:05 | 649 | ||
buildsrc-out.txt | 16-Oct-2021 04:05 | 942 | ||
buildsrc-summary.dcf | 16-Oct-2021 04:05 | 463 | ||
install-out.txt | 16-Oct-2021 04:05 | 5.6K | ||
checksrc-out.txt | 16-Oct-2021 04:05 | 8.9K | ||
checksrc-summary.dcf | 16-Oct-2021 04:05 | 472 | ||
buildbin-out.txt | 16-Oct-2021 04:05 | 4.9K | ||
buildbin-summary.dcf | 16-Oct-2021 04:05 | 545 | ||