Name | Last modified | Size | Description | |
---|---|---|---|---|
Parent Directory | - | |||
install-summary.dcf | 16-Oct-2021 04:05 | 296 | ||
buildsrc-summary.dcf | 16-Oct-2021 04:05 | 461 | ||
checksrc-summary.dcf | 16-Oct-2021 04:05 | 462 | ||
buildbin-summary.dcf | 16-Oct-2021 04:05 | 535 | ||
buildsrc-out.txt | 16-Oct-2021 04:05 | 1.1K | ||
install-out.txt | 16-Oct-2021 04:05 | 2.6K | ||
buildbin-out.txt | 16-Oct-2021 04:05 | 2.7K | ||
checksrc-out.txt | 16-Oct-2021 04:05 | 5.4K | ||