Index of /checkResults/3.13/bioc-LATEST/BiGGR/raw-results
Name
Last modified
Size
Description
Parent Directory
-
tokay2/
16-Oct-2021 04:05
-
info.dcf
16-Oct-2021 04:05
278
nebbiolo1/
16-Oct-2021 04:05
-