![]() | Name | Last modified | Size | Description |
---|---|---|---|---|
![]() | Parent Directory | - | ||
![]() | buildbin-out.txt | 16-Oct-2021 04:05 | 1.3K | |
![]() | buildbin-summary.dcf | 16-Oct-2021 04:05 | 527 | |
![]() | buildsrc-out.txt | 16-Oct-2021 04:05 | 872 | |
![]() | buildsrc-summary.dcf | 16-Oct-2021 04:05 | 451 | |
![]() | checksrc-out.txt | 16-Oct-2021 04:05 | 3.9K | |
![]() | checksrc-summary.dcf | 16-Oct-2021 04:05 | 454 | |
![]() | install-out.txt | 16-Oct-2021 04:05 | 2.0K | |
![]() | install-summary.dcf | 16-Oct-2021 04:05 | 622 | |